Workbook

Sheet Pedidos
A1: Hoja de pedidos a proveedores
A2: Rellena las celdas amarillas: el stock mínimo una vez y lo que tienes antes de pedir. La columna «Pedir» se calcula sola. Las filas de ejemplo son orientativas.
A4: Proveedor | B4: Producto | C4: Formato | D4: Días de reparto | E4: Stock mínimo | F4: Stock actual | G4: Pedir | H4: Precio por formato (€) | I4: Importe del pedido (€)
A5: Distribuidor de bebidas | B5: Barril de cerveza 30 L | C5: Barril | D5: Lunes y jueves | E5: 4 | F5: 2 | G5: =IF(OR(E5="",F5=""),"",MAX(0,E5-F5)) -> 2 | H5: 95 | I5: =IF(OR(G5="",H5=""),"",G5*H5) -> 190
A6: Frutería | B6: Patata | C6: Saco 25 kg | D6: Diario | E6: 2 | F6: 1 | G6: =IF(OR(E6="",F6=""),"",MAX(0,E6-F6)) -> 1 | H6: 12 | I6: =IF(OR(G6="",H6=""),"",G6*H6) -> 12
A7: Cash | B7: Aceite de oliva | C7: Garrafa 5 L | D7: Martes | E7: 3 | F7: 3 | G7: =IF(OR(E7="",F7=""),"",MAX(0,E7-F7)) -> 0 | H7: 24 | I7: =IF(OR(G7="",H7=""),"",G7*H7) -> 0
G8: =IF(OR(E8="",F8=""),"",MAX(0,E8-F8)) | I8: =IF(OR(G8="",H8=""),"",G8*H8)
G9: =IF(OR(E9="",F9=""),"",MAX(0,E9-F9)) | I9: =IF(OR(G9="",H9=""),"",G9*H9)
G10: =IF(OR(E10="",F10=""),"",MAX(0,E10-F10)) | I10: =IF(OR(G10="",H10=""),"",G10*H10)
G11: =IF(OR(E11="",F11=""),"",MAX(0,E11-F11)) | I11: =IF(OR(G11="",H11=""),"",G11*H11)
G12: =IF(OR(E12="",F12=""),"",MAX(0,E12-F12)) | I12: =IF(OR(G12="",H12=""),"",G12*H12)
G13: =IF(OR(E13="",F13=""),"",MAX(0,E13-F13)) | I13: =IF(OR(G13="",H13=""),"",G13*H13)
G14: =IF(OR(E14="",F14=""),"",MAX(0,E14-F14)) | I14: =IF(OR(G14="",H14=""),"",G14*H14)
G15: =IF(OR(E15="",F15=""),"",MAX(0,E15-F15)) | I15: =IF(OR(G15="",H15=""),"",G15*H15)
G16: =IF(OR(E16="",F16=""),"",MAX(0,E16-F16)) | I16: =IF(OR(G16="",H16=""),"",G16*H16)
G17: =IF(OR(E17="",F17=""),"",MAX(0,E17-F17)) | I17: =IF(OR(G17="",H17=""),"",G17*H17)
G18: =IF(OR(E18="",F18=""),"",MAX(0,E18-F18)) | I18: =IF(OR(G18="",H18=""),"",G18*H18)
G19: =IF(OR(E19="",F19=""),"",MAX(0,E19-F19)) | I19: =IF(OR(G19="",H19=""),"",G19*H19)
... G44: =IF(OR(E44="",F44=""),"",MAX(0,E44-F44)) | I44: =IF(OR(G44="",H44=""),"",G44*H44)
H46: Total pedido | I46: =SUM(I5:I44) -> 202
A48: Plantilla gratis de GastroGestión · www.gastrogestionapp.es · Con el programa, todo esto se actualiza solo.

Sheet Por proveedor
A1: Total a pedir por proveedor
A3: Proveedor | B3: Importe (€)
A4: Distribuidor de bebidas | B4: =IF(A4="","",SUMIF(Pedidos!$A$5:$A$44,A4,Pedidos!$I$5:$I$44)) -> 190
A5: Frutería | B5: =IF(A5="","",SUMIF(Pedidos!$A$5:$A$44,A5,Pedidos!$I$5:$I$44)) -> 12
A6: Cash | B6: =IF(A6="","",SUMIF(Pedidos!$A$5:$A$44,A6,Pedidos!$I$5:$I$44)) -> 0
B7: =IF(A7="","",SUMIF(Pedidos!$A$5:$A$44,A7,Pedidos!$I$5:$I$44))
B8: =IF(A8="","",SUMIF(Pedidos!$A$5:$A$44,A8,Pedidos!$I$5:$I$44))
B9: =IF(A9="","",SUMIF(Pedidos!$A$5:$A$44,A9,Pedidos!$I$5:$I$44))
B10: =IF(A10="","",SUMIF(Pedidos!$A$5:$A$44,A10,Pedidos!$I$5:$I$44))
B11: =IF(A11="","",SUMIF(Pedidos!$A$5:$A$44,A11,Pedidos!$I$5:$I$44))
B12: =IF(A12="","",SUMIF(Pedidos!$A$5:$A$44,A12,Pedidos!$I$5:$I$44))
B13: =IF(A13="","",SUMIF(Pedidos!$A$5:$A$44,A13,Pedidos!$I$5:$I$44))
B14: =IF(A14="","",SUMIF(Pedidos!$A$5:$A$44,A14,Pedidos!$I$5:$I$44))
B15: =IF(A15="","",SUMIF(Pedidos!$A$5:$A$44,A15,Pedidos!$I$5:$I$44))
B16: =IF(A16="","",SUMIF(Pedidos!$A$5:$A$44,A16,Pedidos!$I$5:$I$44))
B17: =IF(A17="","",SUMIF(Pedidos!$A$5:$A$44,A17,Pedidos!$I$5:$I$44))
B18: =IF(A18="","",SUMIF(Pedidos!$A$5:$A$44,A18,Pedidos!$I$5:$I$44))
A20: Escribe aquí cada proveedor tal y como aparece en la hoja Pedidos.
A22: Plantilla gratis de GastroGestión · www.gastrogestionapp.es · Con el programa, todo esto se actualiza solo.
